BEGIN:VCALENDAR
VERSION:2.0
PRODID:-//North Branch Trout Derby Association - ECPv6.15.20//NONSGML v1.0//EN
CALSCALE:GREGORIAN
METHOD:PUBLISH
X-WR-CALNAME:North Branch Trout Derby Association
X-ORIGINAL-URL:https://www.nbtda.org
X-WR-CALDESC:Events for North Branch Trout Derby Association
REFRESH-INTERVAL;VALUE=DURATION:PT1H
X-Robots-Tag:noindex
X-PUBLISHED-TTL:PT1H
BEGIN:VTIMEZONE
TZID:UTC
BEGIN:STANDARD
TZOFFSETFROM:+0000
TZOFFSETTO:+0000
TZNAME:UTC
DTSTART:20240101T000000
END:STANDARD
END:VTIMEZONE
BEGIN:VEVENT
DTSTART;TZID=UTC:20250831T060000
DTEND;TZID=UTC:20250831T140000
DTSTAMP:20260421T120752
CREATED:20250120T150942Z
LAST-MODIFIED:20250304T195601Z
UID:474-1756620000-1756648800@www.nbtda.org
SUMMARY:Kiwanis Booth
DESCRIPTION:At the Fair \nAt 6 & 10 AM
URL:https://www.nbtda.org/event/kiwanis-booth-fair/
LOCATION:Wyoming County Fair\, 9141 US 6\, Meshoppen\, PA\, 18630\, United States
CATEGORIES:Fair
END:VEVENT
BEGIN:VEVENT
DTSTART;TZID=UTC:20251011T080000
DTEND;TZID=UTC:20251011T170000
DTSTAMP:20260421T120752
CREATED:20250725T190638Z
LAST-MODIFIED:20250725T190638Z
UID:1757-1760169600-1760202000@www.nbtda.org
SUMMARY:NBTDA Annual Youth Pheasant Hunt
DESCRIPTION:
URL:https://www.nbtda.org/event/nbtda-pgc-youth-pheasant-hunt/
LOCATION:4954 Windy Valley Rd Forkston Pa\, 4954 Windy Valley Rd\, Forkston\, PA\, 18629\, United States
END:VEVENT
END:VCALENDAR