BEGIN:VCALENDAR
VERSION:2.0
PRODID:-//North Branch Trout Derby Association - ECPv6.15.20//NONSGML v1.0//EN
CALSCALE:GREGORIAN
METHOD:PUBLISH
X-ORIGINAL-URL:https://www.nbtda.org
X-WR-CALDESC:Events for North Branch Trout Derby Association
REFRESH-INTERVAL;VALUE=DURATION:PT1H
X-Robots-Tag:noindex
X-PUBLISHED-TTL:PT1H
BEGIN:VTIMEZONE
TZID:UTC
BEGIN:STANDARD
TZOFFSETFROM:+0000
TZOFFSETTO:+0000
TZNAME:UTC
DTSTART:20240101T000000
END:STANDARD
END:VTIMEZONE
BEGIN:VEVENT
DTSTART;TZID=UTC:20250503T090000
DTEND;TZID=UTC:20250503T120000
DTSTAMP:20260423T135450
CREATED:20250426T183344Z
LAST-MODIFIED:20250426T183344Z
UID:1255-1746262800-1746273600@www.nbtda.org
SUMMARY:Derby Work Day
DESCRIPTION:
URL:https://www.nbtda.org/event/derby-work-day-2/
LOCATION:4954 Windy Valley Rd Forkston Pa\, 4954 Windy Valley Rd\, Forkston\, PA\, 18629\, United States
CATEGORIES:Meeting,Mowing,work Day
END:VEVENT
END:VCALENDAR