BEGIN:VCALENDAR
VERSION:2.0
PRODID:-//North Branch Trout Derby Association - ECPv6.15.20//NONSGML v1.0//EN
CALSCALE:GREGORIAN
METHOD:PUBLISH
X-WR-CALNAME:North Branch Trout Derby Association
X-ORIGINAL-URL:https://www.nbtda.org
X-WR-CALDESC:Events for North Branch Trout Derby Association
REFRESH-INTERVAL;VALUE=DURATION:PT1H
X-Robots-Tag:noindex
X-PUBLISHED-TTL:PT1H
BEGIN:VTIMEZONE
TZID:UTC
BEGIN:STANDARD
TZOFFSETFROM:+0000
TZOFFSETTO:+0000
TZNAME:UTC
DTSTART:20240101T000000
END:STANDARD
END:VTIMEZONE
BEGIN:VEVENT
DTSTART;TZID=UTC:20250412T083000
DTEND;TZID=UTC:20250412T170000
DTSTAMP:20260423T135259
CREATED:20250331T130648Z
LAST-MODIFIED:20250331T130648Z
UID:1231-1744446600-1744477200@www.nbtda.org
SUMMARY:Work Day & 12 pm Meeting with Volunteers for Derby Day
DESCRIPTION:
URL:https://www.nbtda.org/event/work-day-12-pm-meeting-with-volunteers-for-derby-day/
LOCATION:4954 Windy Valley Rd Forkston Pa\, 4954 Windy Valley Rd\, Forkston\, PA\, 18629\, United States
CATEGORIES:Meeting,work Day
END:VEVENT
END:VCALENDAR